Workbook
Name Aborted: Config!$B$22
Name Annotation: Config!$B$11
Name ApprovalDate: Config!$B$14
Name Assigned: Config!$B$8
Name Attachment: Config!$B$12
Name Comment: Config!$B$10
Name Contribute: Config!$B$7
Name Current: Config!$B$24
Name DaysEarlier: Config!$B$2
Name DaysLater: Config!$B$4
Name DaysLeft: Config!$B$3
Name DaysOverdue: Config!$B$5
Name Deadline: Config!$B$13
Name Delay: Config!$B$15
Name Link: Config!$B$16
Name Negative: Config!$B$20
Name None: Config!$B$21
Name Positive: Config!$B$19
Name Previous: Config!$B$23
Name REFERENCE_DATE: Workflow!$S$5
Name Status: Config!$B$9
Name Status1: Config!$B$27
Name Status2: Config!$B$28
Name Status3: Config!$B$29
Name Status4: Config!$B$30
Name Status5: Config!$B$31
Name Status6: Config!$B$32
Name StatusKey1: Config!$A$27
Name StatusKey2: Config!$A$28
Name StatusKey3: Config!$A$29
Name StatusKey4: Config!$A$30
Name StatusKey5: Config!$A$31
Name StatusKey6: Config!$A$32
Name StatusKeyToDo: Config!$A$33
Name StatusToDo: Config!$B$33

Sheet Workflow
D2: COOPERBUILD | W2: WORKFLOW REGISTER | AF2: DETAILS
W3: PROJECT XYZ
S5: 44900 | W5: =IF(StatusKeyToDo="Undefined","",StatusKeyToDo) -> To do | X5: =IF(StatusToDo="Undefined","",StatusToDo) -> Tâche ouverte
S6: Créé avec passion par Cooperlink | W6: =IF(StatusKey1="Undefined","",StatusKey1) -> A | X6: =IF(StatusKey1="Undefined","",Status1) -> Approuvé
W7: =IF(StatusKey2="Undefined","",StatusKey2) -> B | X7: =IF(StatusKey2="Undefined","",Status2) -> Approuvé avec commentaires
W8: =IF(StatusKey3="Undefined","",StatusKey3) -> C | X8: =IF(StatusKey3="Undefined","",Status3) -> Refusé
W9: =IF(StatusKey4="Undefined","",StatusKey4) -> D | X9: =IF(StatusKey4="Undefined","",Status4) -> Non concerné
W10: =IF(StatusKey5="Undefined","",StatusKey5) | X10: =IF(StatusKey5="Undefined","",Status5)
W11: =IF(StatusKey6="Undefined","",StatusKey6) | X11: =IF(StatusKey6="Undefined","",Status6)
B13: PROJECT | C13: TYPE | D13: DISCIPLINE | E13: NUMERO | F13: REVISION | G13: FABRICANT | H13: FOURNISSEUR | I13: REF. PRODUIT | J13: ART. CSC | K13: CONFORMITE CSC | L13: ECHANTILLON | M13: IMPACT FINANCIER | N13: PLAN N° | O13: DOCUMENTATION | P13: MODELE DE WORKFLOW | Q13: NOM DU WORKFLOW | R13: NOM DU FICHIER | S13: CONCERNE | T13: DESCRIPTION | U13: LIEN COOPERLINK | W13: TRANSMISSION | AF13: =UPPER("Architecte") -> ARCHITECTE | AQ13: =UPPER("ar") -> AR | AR13: =UPPER("BE STAB/TS") -> BE STAB/TS | BC13: =UPPER("Stab/TS") -> STAB/TS | BD13: =UPPER("Acoustique") -> ACOUSTIQUE | BO13: =UPPER("acc") -> ACC | BP13: =UPPER("CSS") -> CSS | CA13: =UPPER("css") -> CSS | EJ13: =UPPER("Maître d'ouvrage") -> MAÎTRE D'OUVRAGE | EU13: =UPPER("mo") -> MO | EZ13: COMMENTAIRES
W15: DATE | X15: DELAI PHASE 1 | Y15: DELAI PHASE 2 | Z15: ECHEANCE THEORIQUE | AA15: CURRENT STEP | AB15: COMPLETED STATUS | AC15: LIFE STATUS | AD15: STATUT | AE15: DATE APPROB. | AF15: =UPPER(Contribute&CHAR(10)&"ar") -> CONTRIB. AR | AG15: =UPPER(Assigned&CHAR(10)&"ar"&" - CL") -> ASSIGNÉ AR - CL | AH15: =UPPER(Status&CHAR(10)&"ar"&" - CL") -> STATUT AR - CL | AI15: =UPPER(Comment&CHAR(10)&"ar"&" - CL") -> COMMENT. AR - CL | AJ15: =UPPER(Attachment&CHAR(10)&"ar"&" - CL") -> PIÈCE J. AR - CL | AK15: =UPPER(Annotation&CHAR(10)&"ar"&" - CL") -> ANNOTATION AR - CL | AL15: =UPPER(Deadline&CHAR(10)&"ar"&" - CL") -> ÉCHÉANCE AR - CL | AM15: =UPPER(ApprovalDate&CHAR(10)&"ar"&" - CL") -> DATE APPROB. AR - CL | AN15: =UPPER(Status&CHAR(10)&"ar") -> STATUT AR | AO15: =UPPER(ApprovalDate&CHAR(10)&"ar") -> DATE APPROB. AR | AP15: =UPPER("Workflow Status") -> WORKFLOW STATUS | AQ15: =UPPER(Delay&CHAR(10)&"Approb "&CHAR(10)&"ar") -> DÉLAI APPROB AR | AR15: =UPPER(Contribute&CHAR(10)&"Stab/TS") -> CONTRIB. STAB/TS | AS15: =UPPER(Assigned&CHAR(10)&"Stab/TS"&" - CL") -> ASSIGNÉ STAB/TS - CL | AT15: =UPPER(Status&CHAR(10)&"Stab/TS"&" - CL") -> STATUT STAB/TS - CL | AU15: =UPPER(Comment&CHAR(10)&"Stab/TS"&" - CL") -> COMMENT. STAB/TS - CL | AV15: =UPPER(Attachment&CHAR(10)&"Stab/TS"&" - CL") -> PIÈCE J. STAB/TS - CL | AW15: =UPPER(Annotation&CHAR(10)&"Stab/TS"&" - CL") -> ANNOTATION STAB/TS - CL | AX15: =UPPER(Deadline&CHAR(10)&"Stab/TS"&" - CL") -> ÉCHÉANCE STAB/TS - CL | AY15: =UPPER(ApprovalDate&CHAR(10)&"Stab/TS"&" - CL") -> DATE APPROB. STAB/TS - CL | AZ15: =UPPER(Status&CHAR(10)&"Stab/TS") -> STATUT STAB/TS | BA15: =UPPER(ApprovalDate&CHAR(10)&"Stab/TS") -> DATE APPROB. STAB/TS | BB15: =UPPER("Workflow Status") -> WORKFLOW STATUS | BC15: =UPPER(Delay&CHAR(10)&"Approb "&CHAR(10)&"Stab/TS") -> DÉLAI APPROB STAB/TS | BD15: =UPPER(Contribute&CHAR(10)&"acc") -> CONTRIB. ACC | BE15: =UPPER(Assigned&CHAR(10)&"acc"&" - CL") -> ASSIGNÉ ACC - CL | BF15: =UPPER(Status&CHAR(10)&"acc"&" - CL") -> STATUT ACC - CL | BG15: =UPPER(Comment&CHAR(10)&"acc"&" - CL") -> COMMENT. ACC - CL | BH15: =UPPER(Attachment&CHAR(10)&"acc"&" - CL") -> PIÈCE J. ACC - CL | BI15: =UPPER(Annotation&CHAR(10)&"acc"&" - CL") -> ANNOTATION ACC - CL | BJ15: =UPPER(Deadline&CHAR(10)&"acc"&" - CL") -> ÉCHÉANCE ACC - CL | BK15: =UPPER(ApprovalDate&CHAR(10)&"acc"&" - CL") -> DATE APPROB. ACC - CL | BL15: =UPPER(Status&CHAR(10)&"acc") -> STATUT ACC | BM15: =UPPER(ApprovalDate&CHAR(10)&"acc") -> DATE APPROB. ACC | BN15: =UPPER("Workflow Status") -> WORKFLOW STATUS | BO15: =UPPER(Delay&CHAR(10)&"Approb "&CHAR(10)&"acc") -> DÉLAI APPROB ACC | BP15: =UPPER(Contribute&CHAR(10)&"css") -> CONTRIB. CSS | BQ15: =UPPER(Assigned&CHAR(10)&"css"&" - CL") -> ASSIGNÉ CSS - CL | BR15: =UPPER(Status&CHAR(10)&"css"&" - CL") -> STATUT CSS - CL | BS15: =UPPER(Comment&CHAR(10)&"css"&" - CL") -> COMMENT. CSS - CL | BT15: =UPPER(Attachment&CHAR(10)&"css"&" - CL") -> PIÈCE J. CSS - CL | BU15: =UPPER(Annotation&CHAR(10)&"css"&" - CL") -> ANNOTATION CSS - CL | BV15: =UPPER(Deadline&CHAR(10)&"css"&" - CL") -> ÉCHÉANCE CSS - CL | BW15: =UPPER(ApprovalDate&CHAR(10)&"css"&" - CL") -> DATE APPROB. CSS - CL | BX15: =UPPER(Status&CHAR(10)&"css") -> STATUT CSS | BY15: =UPPER(ApprovalDate&CHAR(10)&"css") -> DATE APPROB. CSS | BZ15: =UPPER("Workflow Status") -> WORKFLOW STATUS | CA15: =UPPER(Delay&CHAR(10)&"Approb "&CHAR(10)&"css") -> DÉLAI APPROB CSS | EJ15: =UPPER(Contribute&CHAR(10)&"mo") -> CONTRIB. MO | EK15: =UPPER(Assigned&CHAR(10)&"mo"&" - CL") -> ASSIGNÉ MO - CL | EL15: =UPPER(Status&CHAR(10)&"mo"&" - CL") -> STATUT MO - CL | EM15: =UPPER(Comment&CHAR(10)&"mo"&" - CL") -> COMMENT. MO - CL | EN15: =UPPER(Attachment&CHAR(10)&"mo"&" - CL") -> PIÈCE J. MO - CL | EO15: =UPPER(Annotation&CHAR(10)&"mo"&" - CL") -> ANNOTATION MO - CL | EP15: =UPPER(Deadline&CHAR(10)&"mo"&" - CL") -> ÉCHÉANCE MO - CL | EQ15: =UPPER(ApprovalDate&CHAR(10)&"mo"&" - CL") -> DATE APPROB. MO - CL | ER15: =UPPER(Status&CHAR(10)&"mo") -> STATUT MO | ES15: =UPPER(ApprovalDate&CHAR(10)&"mo") -> DATE APPROB. MO | ET15: =UPPER("Workflow Status") -> WORKFLOW STATUS | EU15: =UPPER(Delay&CHAR(10)&"Approb "&CHAR(10)&"mo") -> DÉLAI APPROB MO | EW15: Count Comments | EX15: Count attachments | EY15: Count markups
B16: XYZ | C16: CL | D16: COOP | E16: 1 | F16: A | G16: Test fabricant | K16: Oui | L16: Non | M16: Non | P16: VISA FT SUB - TS | Q16: Cooperlink Demo Documents DELIVER.pdf | R16: Cooperlink Demo Documents DELIVER.pdf | S16: Test concerne | U16: =HYPERLINK(V16,Link) -> Lien | W16: 44893.969 | X16: 10 | Y16: 5 | Z16: =WORKDAY(W16,X16+Y16) -> 44914 | AB16: NEGATIVE | AC16: CURRENT | AD16: =IFERROR(IF(AC16="Current",Current,Previous)&" - ","")&IFERROR(IF(AND(AB16="POSITIVE"),"APPROUVÉ",IF(AB16="NONE","EN COURS - "&AA16,IF(AB16="NEGATIVE","REFUSÉ",IF(AB16="ABORTED","ARRETÉ","")))),"") -> En vigueur - REFUSÉ | AE16: =IF(OR(AB16="POSITIVE",AB16="NEGATIVE"),MAX(AO16,BA16,BM16,BY16,CK16,CW16,DI16,DU16,ES16),"") -> 44893.972 | AF16: =IF(AG16<>"","X","") | AN16: =IF(AND(AG16<>"",AH16=""),IF($U16="NONE",IF(AL16<>"","To do","To come"),""),AH16) -> 0 | AO16: =IF(AM16<>"",AM16,"") | AP16: NEGATIVE | AQ16: =IF(AG16="","",IF(AND(AP16="NONE",AL16=""),Config!$B$6,IF(AH16<>"",IF(AL16-AM16>0,_xlfn.DAYS(AL16,AM16)&Config!$B$2,_xlfn.DAYS(AM16,AL16)&Config!$B$4),IF(AL16-REFERENCE_DATE>0,_xlfn.DAYS(AL16,REFERENCE_DATE)&Config!$B$3,IF(AP16="NONE",_xlfn.DAYS(REFERENCE_DATE,AL16)&Config!$B$5,""))))) | AR16: =IF(AS16<>"","X","") -> X | AS16: CB | AT16: A | AV16: 0 | AW16: 0 | AX16: 44907.969 | AY16: 44893.972 | AZ16: =IF(AND(AS16<>"",AT16=""),IF($U16="NONE",IF(AX16<>"","To do","To come"),""),AT16) -> A | BA16: =IF(AY16<>"",AY16,"") -> 44893.972 | BB16: NEGATIVE | BC16: =IF(AS16="","",IF(AND(BB16="NONE",AX16=""),Config!$B$6,IF(AT16<>"",IF(AX16-AY16>0,_xlfn.DAYS(AX16,AY16)&Config!$B$2,_xlfn.DAYS(AY16,AX16)&Config!$B$4),IF(AX16-REFERENCE_DATE>0,_xlfn.DAYS(AX16,REFERENCE_DATE)&Config!$B$3,IF(BB16="NONE",_xlfn.DAYS(REFERENCE_DATE,AX16)&Config!$B$5,""))))) -> 14j avant | BD16: =IF(BE16<>"","X","") | BL16: =IF(AND(BE16<>"",BF16=""),IF($U16="NONE",IF(BJ16<>"","To do","To come"),""),BF16) -> 0 | BM16: =IF(BK16<>"",BK16,"") | BN16: NEGATIVE | BO16: =IF(BE16="","",IF(AND(BN16="NONE",BJ16=""),Config!$B$6,IF(BF16<>"",IF(BJ16-BK16>0,_xlfn.DAYS(BJ16,BK16)&Config!$B$2,_xlfn.DAYS(BK16,BJ16)&Config!$B$4),IF(BJ16-REFERENCE_DATE>0,_xlfn.DAYS(BJ16,REFERENCE_DATE)&Config!$B$3,IF(BN16="NONE",_xlfn.DAYS(REFERENCE_DATE,BJ16)&Config!$B$5,""))))) | BP16: =IF(BQ16<>"","X","") | BX16: =IF(AND(BQ16<>"",BR16=""),IF($U16="NONE",IF(BV16<>"","To do","To come"),""),BR16) -> 0 | BY16: =IF(BW16<>"",BW16,"") | BZ16: NEGATIVE | CA16: =IF(BQ16="","",IF(AND(BZ16="NONE",BV16=""),Config!$B$6,IF(BR16<>"",IF(BV16-BW16>0,_xlfn.DAYS(BV16,BW16)&Config!$B$2,_xlfn.DAYS(BW16,BV16)&Config!$B$4),IF(BV16-REFERENCE_DATE>0,_xlfn.DAYS(BV16,REFERENCE_DATE)&Config!$B$3,IF(BZ16="NONE",_xlfn.DAYS(REFERENCE_DATE,BV16)&Config!$B$5,""))))) | EJ16: =IF(EK16<>"","X","") -> X | EK16: CB | ER16: =IF(AND(EK16<>"",EL16=""),IF($U16="NONE",IF(EP16<>"","To do","To come"),""),EL16) | ES16: =IF(EQ16<>"",EQ16,"") | ET16: NEGATIVE | EU16: =IF(EK16="","",IF(AND(ET16="NONE",EP16=""),Config!$B$6,IF(EL16<>"",IF(EP16-EQ16>0,_xlfn.DAYS(EP16,EQ16)&Config!$B$2,_xlfn.DAYS(EQ16,EP16)&Config!$B$4),IF(EP16-REFERENCE_DATE>0,_xlfn.DAYS(EP16,REFERENCE_DATE)&Config!$B$3,IF(ET16="NONE",_xlfn.DAYS(REFERENCE_DATE,EP16)&Config!$B$5,""))))) | EW16: =COUNTA(EM16,EA16,DO16,DC16,CQ16,CE16,BS16,BG16,AU16,AI16) -> 0 | EX16: =SUM(AJ16,AV16,BH16,BT16,CF16,CR16,DD16,DP16,EB16,EN16) -> 0 | EY16: =SUM(AK16,AW16,BI16,BU16,CG16,CS16,DE16,DQ16,EC16,EO16) -> 0 | EZ16: =IF(EW16<>0,EW16&" commentaires(s) - ","")&IF(EX16<>0,EX16&" pièce(s) jointe(s) - ","")&IF(EY16<>0,EY16&" annotation(s) - ","")&IF(OR(EW16<>0,EX16<>0,EY16<>0),"⤵️"&CHAR(10),"")&CHAR(10)& IF(AND(EJ16<>""),"["&$EU$13&"] "&EN16&" attachment(s) - "&EO16&" annotation(s) - "&EM16&CHAR(10),"")& IF(AND(DL16<>""),"["&$DW$13&"] "&DP16&" attachment(s) - "&DQ16&" annotation(s) - "&DO16&CHAR(10),"")& IF(AND(CZ16<>""),"["&$DK$13&"] "&DD16&" attachment(s) - "&DE16&" annotation(s) - "&DC16&CHAR(10),"")& IF(AND(CN16<>""),"["&$CY$13&"] "&CR16&" attachment(s) - "&CS16&" annotation(s) - "&CQ16&CHAR(10),"")& IF(AND(CB16<>""),"["&$CM$13&"] "&CF16&" attachment(s) - "&CG16&" annotation(s) - "&CE16&CHAR(10),"")& IF(AND(BP16<>""),"["&$CA$13&"] "&BT16&" attachment(s) - "&BU16&" annotation(s) - "&BS16&CHAR(10),"")& IF(AND(BD16<>""),"["&$BO$13&"] "&BH16&" attachment(s) - "&BI16&" annotation(s) - "&BG16&CHAR(10),"")& IF(AND(AR16<>""),"["&$BC$13&"] "&AV16&" attachment(s) - "&AW16&" annotation(s) - "&AU16&CHAR(10),"")& IF(AND(AF16<>""),"["&$AQ$13&"] "&AJ16&" attachment(s) - "&AK16&" annotation(s) - "&AI16&CHAR(10),"")& IF(AND(DX16<>""),"["&$EI$13&"] "&EB16&" attachment(s) - "&EC16&" annotation(s) - "&EA16&CHAR(10),"") -> [MO] attachment(s) - annotation(s) - [STAB/TS] 0 attachment(s) - 0 annotation(s) -
B17: XYZ | C17: CL | D17: COOP | E17: 1 | F17: A | G17: Test Fabricant | H17: Test fournisseur | I17: Test ref produit | J17: Test ref CSC | K17: Oui | L17: Non | M17: Non | N17: Test plan no | O17: Test documentation | P17: VISA FT CB - Architecture | Q17: Cooperlink Demo Documents DELIVER.pdf | R17: Cooperlink Demo Documents DELIVER.pdf | S17: Test Concerne | T17: Test description | U17: =HYPERLINK(V17,Link) -> Lien | W17: 44893.925 | X17: 10 | Y17: 5 | Z17: =WORKDAY(W17,X17+Y17) -> 44914 | AA17: Validation Conseil | AB17: NONE | AC17: CURRENT | AD17: =IFERROR(IF(AC17="Current",Current,Previous)&" - ","")&IFERROR(IF(AND(AB17="POSITIVE"),"APPROUVÉ",IF(AB17="NONE","EN COURS - "&AA17,IF(AB17="NEGATIVE","REFUSÉ",IF(AB17="ABORTED","ARRETÉ","")))),"") -> En vigueur - EN COURS - Validation Conseil | AE17: =IF(OR(AB17="POSITIVE",AB17="NEGATIVE"),MAX(AO17,BA17,BM17,BY17,CK17,CW17,DI17,DU17,ES17),"") | AF17: =IF(AG17<>"","X","") -> X | AG17: Administrateur Cooperlink | AH17: C | AI17: Test commentaire | AJ17: 0 | AK17: 1 | AL17: 44907.925 | AM17: 44893.937 | AN17: =IF(AND(AG17<>"",AH17=""),IF($U17="NONE",IF(AL17<>"","To do","To come"),""),AH17) -> C | AO17: =IF(AM17<>"",AM17,"") -> 44893.937 | AP17: NONE | AQ17: =IF(AG17="","",IF(AND(AP17="NONE",AL17=""),Config!$B$6,IF(AH17<>"",IF(AL17-AM17>0,_xlfn.DAYS(AL17,AM17)&Config!$B$2,_xlfn.DAYS(AM17,AL17)&Config!$B$4),IF(AL17-REFERENCE_DATE>0,_xlfn.DAYS(AL17,REFERENCE_DATE)&Config!$B$3,IF(AP17="NONE",_xlfn.DAYS(REFERENCE_DATE,AL17)&Config!$B$5,""))))) -> 14j avant | AR17: =IF(AS17<>"","X","") -> X | AS17: Administrateur Cooperlink | AV17: 0 | AW17: 0 | AX17: 44907.925 | AZ17: =IF(AND(AS17<>"",AT17=""),IF($U17="NONE",IF(AX17<>"","To do","To come"),""),AT17) | BA17: =IF(AY17<>"",AY17,"") | BB17: NONE | BC17: =IF(AS17="","",IF(AND(BB17="NONE",AX17=""),Config!$B$6,IF(AT17<>"",IF(AX17-AY17>0,_xlfn.DAYS(AX17,AY17)&Config!$B$2,_xlfn.DAYS(AY17,AX17)&Config!$B$4),IF(AX17-REFERENCE_DATE>0,_xlfn.DAYS(AX17,REFERENCE_DATE)&Config!$B$3,IF(BB17="NONE",_xlfn.DAYS(REFERENCE_DATE,AX17)&Config!$B$5,""))))) -> 7j restant | BD17: =IF(BE17<>"","X","") | BL17: =IF(AND(BE17<>"",BF17=""),IF($U17="NONE",IF(BJ17<>"","To do","To come"),""),BF17) -> 0 | BM17: =IF(BK17<>"",BK17,"") | BN17: NONE | BO17: =IF(BE17="","",IF(AND(BN17="NONE",BJ17=""),Config!$B$6,IF(BF17<>"",IF(BJ17-BK17>0,_xlfn.DAYS(BJ17,BK17)&Config!$B$2,_xlfn.DAYS(BK17,BJ17)&Config!$B$4),IF(BJ17-REFERENCE_DATE>0,_xlfn.DAYS(BJ17,REFERENCE_DATE)&Config!$B$3,IF(BN17="NONE",_xlfn.DAYS(REFERENCE_DATE,BJ17)&Config!$B$5,""))))) | BP17: =IF(BQ17<>"","X","") | BX17: =IF(AND(BQ17<>"",BR17=""),IF($U17="NONE",IF(BV17<>"","To do","To come"),""),BR17) -> 0 | BY17: =IF(BW17<>"",BW17,"") | BZ17: NONE | CA17: =IF(BQ17="","",IF(AND(BZ17="NONE",BV17=""),Config!$B$6,IF(BR17<>"",IF(BV17-BW17>0,_xlfn.DAYS(BV17,BW17)&Config!$B$2,_xlfn.DAYS(BW17,BV17)&Config!$B$4),IF(BV17-REFERENCE_DATE>0,_xlfn.DAYS(BV17,REFERENCE_DATE)&Config!$B$3,IF(BZ17="NONE",_xlfn.DAYS(REFERENCE_DATE,BV17)&Config!$B$5,""))))) | EJ17: =IF(EK17<>"","X","") -> X | EK17: Administrateur Cooperlink | ER17: =IF(AND(EK17<>"",EL17=""),IF($U17="NONE",IF(EP17<>"","To do","To come"),""),EL17) | ES17: =IF(EQ17<>"",EQ17,"") | ET17: NONE | EU17: =IF(EK17="","",IF(AND(ET17="NONE",EP17=""),Config!$B$6,IF(EL17<>"",IF(EP17-EQ17>0,_xlfn.DAYS(EP17,EQ17)&Config!$B$2,_xlfn.DAYS(EQ17,EP17)&Config!$B$4),IF(EP17-REFERENCE_DATE>0,_xlfn.DAYS(EP17,REFERENCE_DATE)&Config!$B$3,IF(ET17="NONE",_xlfn.DAYS(REFERENCE_DATE,EP17)&Config!$B$5,""))))) -> En attente | EW17: =COUNTA(EM17,EA17,DO17,DC17,CQ17,CE17,BS17,BG17,AU17,AI17) -> 1 | EX17: =SUM(AJ17,AV17,BH17,BT17,CF17,CR17,DD17,DP17,EB17,EN17) -> 0 | EY17: =SUM(AK17,AW17,BI17,BU17,CG17,CS17,DE17,DQ17,EC17,EO17) -> 1 | EZ17: =IF(EW17<>0,EW17&" commentaires(s) - ","")&IF(EX17<>0,EX17&" pièce(s) jointe(s) - ","")&IF(EY17<>0,EY17&" annotation(s) - ","")&IF(OR(EW17<>0,EX17<>0,EY17<>0),"⤵️"&CHAR(10),"")&CHAR(10)&IF(AND(EJ17<>""),"["&$EU$13&"] "&EN17&" attachment(s) - "&EO17&" annotation(s) - "&EM17&CHAR(10),"")&IF(AND(DL17<>""),"["&$DW$13&"] "&DP17&" attachment(s) - "&DQ17&" annotation(s) - "&DO17&CHAR(10),"")&IF(AND(CZ17<>""),"["&$DK$13&"] "&DD17&" attachment(s) - "&DE17&" annotation(s) - "&DC17&CHAR(10),"")&IF(AND(CN17<>""),"["&$CY$13&"] "&CR17&" attachment(s) - "&CS17&" annotation(s) - "&CQ17&CHAR(10),"")&IF(AND(CB17<>""),"["&$CM$13&"] "&CF17&" attachment(s) - "&CG17&" annotation(s) - "&CE17&CHAR(10),"")&IF(AND(BP17<>""),"["&$CA$13&"] "&BT17&" attachment(s) - "&BU17&" annotation(s) - "&BS17&CHAR(10),"")&IF(AND(BD17<>""),"["&$BO$13&"] "&BH17&" attachment(s) - "&BI17&" annotation(s) - "&BG17&CHAR(10),"")&IF(AND(AR17<>""),"["&$BC$13&"] "&AV17&" attachment(s) - "&AW17&" annotation(s) - "&AU17&CHAR(10),"")&IF(AND(AF17<>""),"["&$AQ$13&"] "&AJ17&" attachment(s) - "&AK17&" annotation(s) - "&AI17&CHAR(10),"")&IF(AND(DX17<>""),"["&$EI$13&"] "&EB17&" attachment(s) - "&EC17&" annotation(s) - "&EA17&CHAR(10),"") -> 1 commentaires(s) - 1 annotation(s) - ⤵️ [MO] attachment(s) - annotation(s) - [STAB/TS] 0 attachment(s) - 0 annotation(s) - [AR] 0 attachment(s) - 1 annotation(s) - Test commentaire
B18: XYZ | C18: CL | D18: COOP | E18: 1 | F18: A | G18: Test Fabricant | H18: Test fournisseur | I18: Test ref produit | J18: Test ref CSC | K18: Oui | L18: Non | M18: Non | N18: Test plan no | O18: Test documentation | P18: VISA FT CB - Architecture | Q18: Cooperlink Demo Documents DELIVER.pdf | R18: Cooperlink Demo Documents DELIVER.pdf | S18: Test Concerne | T18: Test description | U18: =HYPERLINK(V18,Link) -> Lien | W18: 44893.844 | X18: 10 | Y18: 5 | Z18: =WORKDAY(W18,X18+Y18) -> 44914 | AB18: NEGATIVE | AC18: PREVIOUS | AD18: =IFERROR(IF(AC18="Current",Current,Previous)&" - ","")&IFERROR(IF(AND(AB18="POSITIVE"),"APPROUVÉ",IF(AB18="NONE","EN COURS - "&AA18,IF(AB18="NEGATIVE","REFUSÉ",IF(AB18="ABORTED","ARRETÉ","")))),"") -> Obsolète - REFUSÉ | AE18: =IF(OR(AB18="POSITIVE",AB18="NEGATIVE"),MAX(AO18,BA18,BM18,BY18,CK18,CW18,DI18,DU18,ES18),"") -> 44893.844 | AF18: =IF(AG18<>"","X","") -> X | AG18: Administrateur Cooperlink | AH18: A | AJ18: 0 | AK18: 0 | AL18: 44907.844 | AM18: 44893.844 | AN18: =IF(AND(AG18<>"",AH18=""),IF($U18="NONE",IF(AL18<>"","To do","To come"),""),AH18) -> A | AO18: =IF(AM18<>"",AM18,"") -> 44893.844 | AP18: NEGATIVE | AQ18: =IF(AG18="","",IF(AND(AP18="NONE",AL18=""),Config!$B$6,IF(AH18<>"",IF(AL18-AM18>0,_xlfn.DAYS(AL18,AM18)&Config!$B$2,_xlfn.DAYS(AM18,AL18)&Config!$B$4),IF(AL18-REFERENCE_DATE>0,_xlfn.DAYS(AL18,REFERENCE_DATE)&Config!$B$3,IF(AP18="NONE",_xlfn.DAYS(REFERENCE_DATE,AL18)&Config!$B$5,""))))) -> 14j avant | AR18: =IF(AS18<>"","X","") | AZ18: =IF(AND(AS18<>"",AT18=""),IF($U18="NONE",IF(AX18<>"","To do","To come"),""),AT18) -> 0 | BA18: =IF(AY18<>"",AY18,"") | BB18: NEGATIVE | BC18: =IF(AS18="","",IF(AND(BB18="NONE",AX18=""),Config!$B$6,IF(AT18<>"",IF(AX18-AY18>0,_xlfn.DAYS(AX18,AY18)&Config!$B$2,_xlfn.DAYS(AY18,AX18)&Config!$B$4),IF(AX18-REFERENCE_DATE>0,_xlfn.DAYS(AX18,REFERENCE_DATE)&Config!$B$3,IF(BB18="NONE",_xlfn.DAYS(REFERENCE_DATE,AX18)&Config!$B$5,""))))) | BD18: =IF(BE18<>"","X","") | BL18: =IF(AND(BE18<>"",BF18=""),IF($U18="NONE",IF(BJ18<>"","To do","To come"),""),BF18) -> 0 | BM18: =IF(BK18<>"",BK18,"") | BN18: NEGATIVE | BO18: =IF(BE18="","",IF(AND(BN18="NONE",BJ18=""),Config!$B$6,IF(BF18<>"",IF(BJ18-BK18>0,_xlfn.DAYS(BJ18,BK18)&Config!$B$2,_xlfn.DAYS(BK18,BJ18)&Config!$B$4),IF(BJ18-REFERENCE_DATE>0,_xlfn.DAYS(BJ18,REFERENCE_DATE)&Config!$B$3,IF(BN18="NONE",_xlfn.DAYS(REFERENCE_DATE,BJ18)&Config!$B$5,""))))) | BP18: =IF(BQ18<>"","X","") | BX18: =IF(AND(BQ18<>"",BR18=""),IF($U18="NONE",IF(BV18<>"","To do","To come"),""),BR18) -> 0 | BY18: =IF(BW18<>"",BW18,"") | BZ18: NEGATIVE | CA18: =IF(BQ18="","",IF(AND(BZ18="NONE",BV18=""),Config!$B$6,IF(BR18<>"",IF(BV18-BW18>0,_xlfn.DAYS(BV18,BW18)&Config!$B$2,_xlfn.DAYS(BW18,BV18)&Config!$B$4),IF(BV18-REFERENCE_DATE>0,_xlfn.DAYS(BV18,REFERENCE_DATE)&Config!$B$3,IF(BZ18="NONE",_xlfn.DAYS(REFERENCE_DATE,BV18)&Config!$B$5,""))))) | EJ18: =IF(EK18<>"","X","") -> X | EK18: Administrateur Cooperlink | EL18: C | EN18: 0 | EO18: 0 | EP18: 44900.844 | EQ18: 44893.844 | ER18: =IF(AND(EK18<>"",EL18=""),IF($U18="NONE",IF(EP18<>"","To do","To come"),""),EL18) -> C | ES18: =IF(EQ18<>"",EQ18,"") -> 44893.844 | ET18: NEGATIVE | EU18: =IF(EK18="","",IF(AND(ET18="NONE",EP18=""),Config!$B$6,IF(EL18<>"",IF(EP18-EQ18>0,_xlfn.DAYS(EP18,EQ18)&Config!$B$2,_xlfn.DAYS(EQ18,EP18)&Config!$B$4),IF(EP18-REFERENCE_DATE>0,_xlfn.DAYS(EP18,REFERENCE_DATE)&Config!$B$3,IF(ET18="NONE",_xlfn.DAYS(REFERENCE_DATE,EP18)&Config!$B$5,""))))) -> 7j avant | EW18: =COUNTA(EM18,EA18,DO18,DC18,CQ18,CE18,BS18,BG18,AU18,AI18) -> 0 | EX18: =SUM(AJ18,AV18,BH18,BT18,CF18,CR18,DD18,DP18,EB18,EN18) -> 0 | EY18: =SUM(AK18,AW18,BI18,BU18,CG18,CS18,DE18,DQ18,EC18,EO18) -> 0 | EZ18: =IF(EW18<>0,EW18&" commentaires(s) - ","")&IF(EX18<>0,EX18&" pièce(s) jointe(s) - ","")&IF(EY18<>0,EY18&" annotation(s) - ","")&IF(OR(EW18<>0,EX18<>0,EY18<>0),"⤵️"&CHAR(10),"")&CHAR(10)&IF(AND(EJ18<>""),"["&$EU$13&"] "&EN18&" attachment(s) - "&EO18&" annotation(s) - "&EM18&CHAR(10),"")&IF(AND(DL18<>""),"["&$DW$13&"] "&DP18&" attachment(s) - "&DQ18&" annotation(s) - "&DO18&CHAR(10),"")&IF(AND(CZ18<>""),"["&$DK$13&"] "&DD18&" attachment(s) - "&DE18&" annotation(s) - "&DC18&CHAR(10),"")&IF(AND(CN18<>""),"["&$CY$13&"] "&CR18&" attachment(s) - "&CS18&" annotation(s) - "&CQ18&CHAR(10),"")&IF(AND(CB18<>""),"["&$CM$13&"] "&CF18&" attachment(s) - "&CG18&" annotation(s) - "&CE18&CHAR(10),"")&IF(AND(BP18<>""),"["&$CA$13&"] "&BT18&" attachment(s) - "&BU18&" annotation(s) - "&BS18&CHAR(10),"")&IF(AND(BD18<>""),"["&$BO$13&"] "&BH18&" attachment(s) - "&BI18&" annotation(s) - "&BG18&CHAR(10),"")&IF(AND(AR18<>""),"["&$BC$13&"] "&AV18&" attachment(s) - "&AW18&" annotation(s) - "&AU18&CHAR(10),"")&IF(AND(AF18<>""),"["&$AQ$13&"] "&AJ18&" attachment(s) - "&AK18&" annotation(s) - "&AI18&CHAR(10),"")&IF(AND(DX18<>""),"["&$EI$13&"] "&EB18&" attachment(s) - "&EC18&" annotation(s) - "&EA18&CHAR(10),"") -> [MO] 0 attachment(s) - 0 annotation(s) - [AR] 0 attachment(s) - 0 annotation(s) -
B19: XYZ | C19: CL | D19: COOP | E19: 1 | F19: 0 | G19: Test Fabricant | H19: Test fournisseur | I19: Test ref produit | J19: Test ref CSC | K19: Oui | L19: Non | M19: Non | N19: Test plan no | O19: Test documentation | P19: VISA FT CB - Architecture | Q19: Cooperlink Demo Documents DELIVER.pdf | R19: Cooperlink Demo Documents DELIVER.pdf | S19: Test Concerne | T19: Test description | U19: =HYPERLINK(V19,Link) -> Lien | W19: 44893.833 | X19: 10 | Y19: 5 | Z19: =WORKDAY(W19,X19+Y19) -> 44914 | AB19: POSITIVE | AC19: PREVIOUS | AD19: =IFERROR(IF(AC19="Current",Current,Previous)&" - ","")&IFERROR(IF(AND(AB19="POSITIVE"),"APPROUVÉ",IF(AB19="NONE","EN COURS - "&AA19,IF(AB19="NEGATIVE","REFUSÉ",IF(AB19="ABORTED","ARRETÉ","")))),"") -> Obsolète - APPROUVÉ | AE19: =IF(OR(AB19="POSITIVE",AB19="NEGATIVE"),MAX(AO19,BA19,BM19,BY19,CK19,CW19,DI19,DU19,ES19),"") -> 44893.839 | AF19: =IF(AG19<>"","X","") -> X | AG19: Administrateur Cooperlink | AH19: B | AI19: Commentaire Architecte Test | AJ19: 1 | AK19: 1 | AL19: 44907.833 | AM19: 44893.838 | AN19: =IF(AND(AG19<>"",AH19=""),IF($U19="NONE",IF(AL19<>"","To do","To come"),""),AH19) -> B | AO19: =IF(AM19<>"",AM19,"") -> 44893.838 | AP19: POSITIVE | AQ19: =IF(AG19="","",IF(AND(AP19="NONE",AL19=""),Config!$B$6,IF(AH19<>"",IF(AL19-AM19>0,_xlfn.DAYS(AL19,AM19)&Config!$B$2,_xlfn.DAYS(AM19,AL19)&Config!$B$4),IF(AL19-REFERENCE_DATE>0,_xlfn.DAYS(AL19,REFERENCE_DATE)&Config!$B$3,IF(AP19="NONE",_xlfn.DAYS(REFERENCE_DATE,AL19)&Config!$B$5,""))))) -> 14j avant | AR19: =IF(AS19<>"","X","") -> X | AS19: Administrateur Cooperlink | AT19: A | AU19: Commentaire Stabilité / TS Test | AV19: 0 | AW19: 0 | AX19: 44907.833 | AY19: 44893.838 | AZ19: =IF(AND(AS19<>"",AT19=""),IF($U19="NONE",IF(AX19<>"","To do","To come"),""),AT19) -> A | BA19: =IF(AY19<>"",AY19,"") -> 44893.838 | BB19: POSITIVE | BC19: =IF(AS19="","",IF(AND(BB19="NONE",AX19=""),Config!$B$6,IF(AT19<>"",IF(AX19-AY19>0,_xlfn.DAYS(AX19,AY19)&Config!$B$2,_xlfn.DAYS(AY19,AX19)&Config!$B$4),IF(AX19-REFERENCE_DATE>0,_xlfn.DAYS(AX19,REFERENCE_DATE)&Config!$B$3,IF(BB19="NONE",_xlfn.DAYS(REFERENCE_DATE,AX19)&Config!$B$5,""))))) -> 14j avant | BD19: =IF(BE19<>"","X","") | BL19: =IF(AND(BE19<>"",BF19=""),IF($U19="NONE",IF(BJ19<>"","To do","To come"),""),BF19) -> 0 | BM19: =IF(BK19<>"",BK19,"") | BN19: POSITIVE | BO19: =IF(BE19="","",IF(AND(BN19="NONE",BJ19=""),Config!$B$6,IF(BF19<>"",IF(BJ19-BK19>0,_xlfn.DAYS(BJ19,BK19)&Config!$B$2,_xlfn.DAYS(BK19,BJ19)&Config!$B$4),IF(BJ19-REFERENCE_DATE>0,_xlfn.DAYS(BJ19,REFERENCE_DATE)&Config!$B$3,IF(BN19="NONE",_xlfn.DAYS(REFERENCE_DATE,BJ19)&Config!$B$5,""))))) | BP19: =IF(BQ19<>"","X","") -> X | BQ19: Administrateur Cooperlink | BR19: A | BS19: Commentaire CSS Test | BT19: 0 | BU19: 0 | BV19: 44907.833 | BW19: 44893.839 | BX19: =IF(AND(BQ19<>"",BR19=""),IF($U19="NONE",IF(BV19<>"","To do","To come"),""),BR19) -> A | BY19: =IF(BW19<>"",BW19,"") -> 44893.839 | BZ19: POSITIVE | CA19: =IF(BQ19="","",IF(AND(BZ19="NONE",BV19=""),Config!$B$6,IF(BR19<>"",IF(BV19-BW19>0,_xlfn.DAYS(BV19,BW19)&Config!$B$2,_xlfn.DAYS(BW19,BV19)&Config!$B$4),IF(BV19-REFERENCE_DATE>0,_xlfn.DAYS(BV19,REFERENCE_DATE)&Config!$B$3,IF(BZ19="NONE",_xlfn.DAYS(REFERENCE_DATE,BV19)&Config!$B$5,""))))) -> 14j avant | EJ19: =IF(EK19<>"","X","") -> X | EK19: Administrateur Cooperlink | EL19: C | EM19: Commentaire MO Test | EN19: 0 | EO19: 1 | EP19: 44900.839 | EQ19: 44893.839 | ER19: =IF(AND(EK19<>"",EL19=""),IF($U19="NONE",IF(EP19<>"","To do","To come"),""),EL19) -> C | ES19: =IF(EQ19<>"",EQ19,"") -> 44893.839 | ET19: POSITIVE | EU19: =IF(EK19="","",IF(AND(ET19="NONE",EP19=""),Config!$B$6,IF(EL19<>"",IF(EP19-EQ19>0,_xlfn.DAYS(EP19,EQ19)&Config!$B$2,_xlfn.DAYS(EQ19,EP19)&Config!$B$4),IF(EP19-REFERENCE_DATE>0,_xlfn.DAYS(EP19,REFERENCE_DATE)&Config!$B$3,IF(ET19="NONE",_xlfn.DAYS(REFERENCE_DATE,EP19)&Config!$B$5,""))))) -> 7j avant | EW19: =COUNTA(EM19,EA19,DO19,DC19,CQ19,CE19,BS19,BG19,AU19,AI19) -> 4 | EX19: =SUM(AJ19,AV19,BH19,BT19,CF19,CR19,DD19,DP19,EB19,EN19) -> 1 | EY19: =SUM(AK19,AW19,BI19,BU19,CG19,CS19,DE19,DQ19,EC19,EO19) -> 2 | EZ19: =IF(EW19<>0,EW19&" commentaires(s) - ","")&IF(EX19<>0,EX19&" pièce(s) jointe(s) - ","")&IF(EY19<>0,EY19&" annotation(s) - ","")&IF(OR(EW19<>0,EX19<>0,EY19<>0),"⤵️"&CHAR(10),"")&CHAR(10)&IF(AND(EJ19<>""),"["&$EU$13&"] "&EN19&" attachment(s) - "&EO19&" annotation(s) - "&EM19&CHAR(10),"")&IF(AND(DL19<>""),"["&$DW$13&"] "&DP19&" attachment(s) - "&DQ19&" annotation(s) - "&DO19&CHAR(10),"")&IF(AND(CZ19<>""),"["&$DK$13&"] "&DD19&" attachment(s) - "&DE19&" annotation(s) - "&DC19&CHAR(10),"")&IF(AND(CN19<>""),"["&$CY$13&"] "&CR19&" attachment(s) - "&CS19&" annotation(s) - "&CQ19&CHAR(10),"")&IF(AND(CB19<>""),"["&$CM$13&"] "&CF19&" attachment(s) - "&CG19&" annotation(s) - "&CE19&CHAR(10),"")&IF(AND(BP19<>""),"["&$CA$13&"] "&BT19&" attachment(s) - "&BU19&" annotation(s) - "&BS19&CHAR(10),"")&IF(AND(BD19<>""),"["&$BO$13&"] "&BH19&" attachment(s) - "&BI19&" annotation(s) - "&BG19&CHAR(10),"")&IF(AND(AR19<>""),"["&$BC$13&"] "&AV19&" attachment(s) - "&AW19&" annotation(s) - "&AU19&CHAR(10),"")&IF(AND(AF19<>""),"["&$AQ$13&"] "&AJ19&" attachment(s) - "&AK19&" annotation(s) - "&AI19&CHAR(10),"")&IF(AND(DX19<>""),"["&$EI$13&"] "&EB19&" attachment(s) - "&EC19&" annotation(s) - "&EA19&CHAR(10),"") -> 4 commentaires(s) - 1 pièce(s) jointe(s) - 2 annotation(s) - ⤵️ [MO] 0 attachment(s) - 1 annotation(s) - Commentaire MO Test [CSS] 0 attachment(s) - 0 annotation(s) - Commentaire CSS Test [STAB/TS] 0 attachment(s) - 0 annotation(s) - Commentaire Stabilité / TS Test [AR] 1 attachment(s) - 1 annotation(s) - Commentaire Architecte Test

Sheet Workflow Externe
B7: PROJECT | C7: ORIGINATOR | D7: PHASE | E7: TRADE SUB TRADE | F7: TYPE | G7: ZONE | H7: LEVEL | I7: NUMBER | J7: REVISION | K7: TITLE | L7: LIEN COOPERLINK | M7: TRANSMISSION VERS LA SNCB (WORFLOW EXTERNE) | S7: COMMENTAIRE
M9: DATE | N9: DURÉE EXAMEN | O9: ÉCHÉANCE | P9: STATUT | Q9: DATE APPROB.

Sheet Config
A1: Dictionnary | B1: Word | C1: Description
A2: Days earlier | B2: j avant
A3: Days remaining | B3: j restant
A4: Days too late | B4: j + tard
A5: Days overdued | B5: j retard
A6: Not yet planned | B6: En attente
A7: Contribute | B7: Contrib.
A8: Assigned | B8: Assigné
A9: Status | B9: Statut
A10: Comment | B10: Comment.
A11: Annotation | B11: Annotation
A12: Attachment | B12: Pièce j.
A13: Deadline | B13: Échéance
... A16: Link | B16: Lien
A18: Statuses
A19: Positive | B19: APPROUVE
A20: Negative | B20: REFUSE
A21: None | B21: EN COURS -
A22: Aborted | B22: ARRETE
A23: Previous | B23: Obsolète
A24: Current | B24: En vigueur
A26: Answers
A27: A | B27: Approuvé
A28: B | B28: Approuvé avec commentaires
A29: C | B29: Refusé
A30: D | B30: Non concerné
A31: Undefined
A32: Undefined
A33: To do | B33: Tâche ouverte

Sheet Generator
N1: Keyu Prefix | O1: wust_rhea | Q1: Role title | R1: Acoustique
N2: Role | O2: acc | Q2: Company name | R2: ATS
N3: Displayed Role | O3: acc
N4: Answer Key Suffix | O4: answer
N5: Comment Key Suffix | O5: comment
A7: =UPPER("Acoustique") -> ACOUSTIQUE | L7: =UPPER("acc") -> ACC
A8: =UPPER("ATS") -> ATS
A9: =UPPER(Contribute&CHAR(10)&"acc") -> CONTRIB. ACC | B9: =UPPER(Assigned&CHAR(10)&"acc"&" - CL") -> ASSIGNÉ ACC - CL | C9: =UPPER(Status&CHAR(10)&"acc"&" - CL") -> STATUT ACC - CL | D9: =UPPER(Comment&CHAR(10)&"acc"&" - CL") -> COMMENT. ACC - CL | E9: =UPPER(Attachment&CHAR(10)&"acc"&" - CL") -> PIÈCE J. ACC - CL | F9: =UPPER(Annotation&CHAR(10)&"acc"&" - CL") -> ANNOTATION ACC - CL | G9: =UPPER(Deadline&CHAR(10)&"acc"&" - CL") -> ÉCHÉANCE ACC - CL | H9: =UPPER(ApprovalDate&CHAR(10)&"acc"&" - CL") -> DATE APPROB. ACC - CL | I9: =UPPER(Status&CHAR(10)&"acc") -> STATUT ACC | J9: =UPPER(ApprovalDate&CHAR(10)&"acc") -> DATE APPROB. ACC | K9: =UPPER("Workflow Status") -> WORKFLOW STATUS | L9: =UPPER(Delay&CHAR(10)&"Approb "&CHAR(10)&"acc") -> DÉLAI APPROB ACC
A10: =IF(B10<>"","X","") -> X | B10: ${wust_rhea_acc} | C10: ${actions.wust_rhea_action_acc.wust_rhea_answer} | D10: ${actions.wust_rhea_action_acc.wust_rhea_comment} | E10: ${actions.wust_rhea_action_acc.attachment_count} | F10: ${actions.wust_rhea_action_acc.markup_count} | G10: ${actions.wust_rhea_action_acc.due_date} | H10: ${actions.wust_rhea_action_acc.completedate} | I10: =IF(AND(B10<>"",C10=""),IF($U10="NONE",IF(G10<>"","To do","To come"),""),C10) -> ${actions.wust_rhea_action_acc.wust_rhea_answer} | J10: =IF(H10<>"",H10,"") -> ${actions.wust_rhea_action_acc.completedate} | K10: ${completed_status} | L10: =IF(B10="","",IF(AND(K10="NONE",G10=""),Config!$B$6,IF(C10<>"",IF(G10-H10>0,_xlfn.DAYS(G10,H10)&Config!$B$2,_xlfn.DAYS(H10,G10)&Config!$B$4),IF(G10-REFERENCE_DATE>0,_xlfn.DAYS(G10,REFERENCE_DATE)&Config!$B$3,IF(K10="NONE",_xlfn.DAYS(REFERENCE_DATE,G10)&Config!$B$5,""))))) -> #VALUE!
